Workbook

Sheet Instruções
A7: Diário dos hábitos - Instruções de uso
E9: Crie uma cópia desta planilha no menu "Arquivo"
A11: Esta planilha foi desenvolvida para ajudá-lo a monitorar a introdução de novos hábitos ao longo de 10 semanas. O objetivo é registrar sua consistência e registrar seu progresso de forma clara e objetiva.
A13: Como Usar a Planilha
A15: 1. No início do programa, escolha três hábitos que deseja incorporar à sua rotina.
F17: Hábito 1 | G17: Hábito 2 | H17: Hábito 3
A20: Esses hábitos serão os mesmos ao longo das 10 semanas.
A22: 2. Estabeleça uma meta de frequência semanal. Registre essa meta no campo abaixo.
E24: Frequência
A26: 3. Registre seu progresso diariamente
A28: A cada dia, marque na planilha se conseguiu realizar o hábito ou não.
A29: Utilize um “✔” para indicar que o hábito foi cumprido e deixe em branco os dias em que não conseguiu
A31: 4. Acompanhe sua evolução semanalmente
A33: No final de cada semana, compare sua prática real com a frequência desejada.
A34: Caso perceba dificuldades, registre e reflita sobre possíveis ajustes para tornar o hábito mais viável.
A36: 5. Registre seus resultados ao final das 10 semanas
A38: No campo “Escreva aqui as suas conquistas”, anote os aprendizados e os benefícios percebidos ao longo do processo.
A40: Dicas para um Melhor Aproveitamento
A42: ✔ Escolha hábitos que sejam viáveis e compatíveis com sua rotina.
A43: ✔ Mantenha a planilha acessível para facilitar o preenchimento diário.
A44: ✔ Perder um dia não significa falhar. Não busque perfeição, e sim consistência.
A46: Com essa ferramenta, você terá um acompanhamento claro do seu progresso, facilitando a incorporação dos novos hábitos na sua vida. Estamos juntos nessa jornada!

Sheet 1
D3: SEMANA 1 | I3: SEMANA 2
C4: Dias da semana | D4: ='Instruções'!$F$18 | E4: ='Instruções'!$G$18 | F4: ='Instruções'!$H$18 | H4: Dias da semana | I4: ='Instruções'!$F18 | J4: ='Instruções'!$G18 | K4: ='Instruções'!$H18
C5: Segunda-feira | D5: FALSE | E5: FALSE | F5: FALSE | H5: Segunda-feira | I5: FALSE | J5: FALSE | K5: FALSE
C6: Terça-feira | D6: FALSE | E6: FALSE | F6: FALSE | H6: Terça-feira | I6: FALSE | J6: FALSE | K6: FALSE
C7: Quarta-feira | D7: FALSE | E7: FALSE | F7: FALSE | H7: Quarta-feira | I7: FALSE | J7: FALSE | K7: FALSE
C8: Quinta-feira | D8: FALSE | E8: FALSE | F8: FALSE | H8: Quinta-feira | I8: FALSE | J8: FALSE | K8: FALSE
C9: Sexta-feira | D9: FALSE | E9: FALSE | F9: FALSE | H9: Sexta-feira | I9: FALSE | J9: FALSE | K9: FALSE
C10: Sábado | D10: FALSE | E10: FALSE | F10: FALSE | H10: Sábado | I10: FALSE | J10: FALSE | K10: FALSE
C11: Domingo | D11: FALSE | E11: FALSE | F11: FALSE | H11: Domingo | I11: FALSE | J11: FALSE | K11: FALSE
C13: Frequência desejada | D13: ='Instruções'!$F$24 | E13: ='Instruções'!$G$24 | F13: ='Instruções'!$H$24 | H13: Frequência desejada | I13: ='Instruções'!$F$24 | J13: ='Instruções'!$G$24 | K13: ='Instruções'!$H$24
D15: SEMANA 3 | I15: SEMANA 4
C16: Dias da semana | D16: ='Instruções'!$F$18 | E16: ='Instruções'!$G$18 | F16: ='Instruções'!$H$18 | H16: Dias da semana | I16: ='Instruções'!$F$18 | J16: ='Instruções'!$G$18 | K16: ='Instruções'!$H$18
C17: Segunda-feira | D17: FALSE | E17: FALSE | F17: FALSE | H17: Segunda-feira | I17: FALSE | J17: FALSE | K17: FALSE
C18: Terça-feira | D18: FALSE | E18: FALSE | F18: FALSE | H18: Terça-feira | I18: FALSE | J18: FALSE | K18: FALSE
C19: Quarta-feira | D19: FALSE | E19: FALSE | F19: FALSE | H19: Quarta-feira | I19: FALSE | J19: FALSE | K19: FALSE
C20: Quinta-feira | D20: FALSE | E20: FALSE | F20: FALSE | H20: Quinta-feira | I20: FALSE | J20: FALSE | K20: FALSE
C21: Sexta-feira | D21: FALSE | E21: FALSE | F21: FALSE | H21: Sexta-feira | I21: FALSE | J21: FALSE | K21: FALSE
C22: Sábado | D22: FALSE | E22: FALSE | F22: FALSE | H22: Sábado | I22: FALSE | J22: FALSE | K22: FALSE
C23: Domingo | D23: FALSE | E23: FALSE | F23: FALSE | H23: Domingo | I23: FALSE | J23: FALSE | K23: FALSE
C25: Frequência desejada | D25: ='Instruções'!$F$24 | E25: ='Instruções'!$G$24 | F25: ='Instruções'!$H$24 | H25: Frequência desejada | I25: ='Instruções'!$F$24 | J25: ='Instruções'!$G$24 | K25: ='Instruções'!$H$24

Sheet 2
D3: SEMANA 5 | I3: SEMANA 6
C4: Dias da semana | D4: ='Instruções'!$F$18 | E4: ='Instruções'!$G$18 | F4: ='Instruções'!$H$18 | H4: Dias da semana | I4: ='Instruções'!$F$18 | J4: ='Instruções'!$G$18 | K4: ='Instruções'!$H$18
C5: Segunda-feira | D5: FALSE | E5: FALSE | F5: FALSE | H5: Segunda-feira | I5: FALSE | J5: FALSE | K5: FALSE
C6: Terça-feira | D6: FALSE | E6: FALSE | F6: FALSE | H6: Terça-feira | I6: FALSE | J6: FALSE | K6: FALSE
C7: Quarta-feira | D7: FALSE | E7: FALSE | F7: FALSE | H7: Quarta-feira | I7: FALSE | J7: FALSE | K7: FALSE
C8: Quinta-feira | D8: FALSE | E8: FALSE | F8: FALSE | H8: Quinta-feira | I8: FALSE | J8: FALSE | K8: FALSE
C9: Sexta-feira | D9: FALSE | E9: FALSE | F9: FALSE | H9: Sexta-feira | I9: FALSE | J9: FALSE | K9: FALSE
C10: Sábado | D10: FALSE | E10: FALSE | F10: FALSE | H10: Sábado | I10: FALSE | J10: FALSE | K10: FALSE
C11: Domingo | D11: FALSE | E11: FALSE | F11: FALSE | H11: Domingo | I11: FALSE | J11: FALSE | K11: FALSE
C13: Frequência desejada | D13: ='Instruções'!$F$24 | E13: ='Instruções'!$G$24 | F13: ='Instruções'!$H$24 | H13: Frequência desejada | I13: ='Instruções'!$F$24 | J13: ='Instruções'!$G$24 | K13: ='Instruções'!$H$24
D15: SEMANA 7 | I15: SEMANA 8
C16: Dias da semana | D16: ='Instruções'!$F$18 | E16: ='Instruções'!$G$18 | F16: ='Instruções'!$H$18 | H16: Dias da semana | I16: ='Instruções'!$F$18 | J16: ='Instruções'!$G$18 | K16: ='Instruções'!$H$18
C17: Segunda-feira | D17: FALSE | E17: FALSE | F17: FALSE | H17: Segunda-feira | I17: FALSE | J17: FALSE | K17: FALSE
C18: Terça-feira | D18: FALSE | E18: FALSE | F18: FALSE | H18: Terça-feira | I18: FALSE | J18: FALSE | K18: FALSE
C19: Quarta-feira | D19: FALSE | E19: FALSE | F19: FALSE | H19: Quarta-feira | I19: FALSE | J19: FALSE | K19: FALSE
C20: Quinta-feira | D20: FALSE | E20: FALSE | F20: FALSE | H20: Quinta-feira | I20: FALSE | J20: FALSE | K20: FALSE
C21: Sexta-feira | D21: FALSE | E21: FALSE | F21: FALSE | H21: Sexta-feira | I21: FALSE | J21: FALSE | K21: FALSE
C22: Sábado | D22: FALSE | E22: FALSE | F22: FALSE | H22: Sábado | I22: FALSE | J22: FALSE | K22: FALSE
C23: Domingo | D23: FALSE | E23: FALSE | F23: FALSE | H23: Domingo | I23: FALSE | J23: FALSE | K23: FALSE
C25: Frequência desejada | D25: ='Instruções'!$F$24 | E25: ='Instruções'!$G$24 | F25: ='Instruções'!$H$24 | H25: Frequência desejada | I25: ='Instruções'!$F$24 | J25: ='Instruções'!$G$24 | K25: ='Instruções'!$H$24

Sheet 3
D3: SEMANA 9 | I3: SEMANA 10
C4: Dias da semana | D4: ='Instruções'!$F$18 | E4: ='Instruções'!$G$18 | F4: ='Instruções'!$H$18 | H4: Dias da semana | I4: ='Instruções'!$F$18 | J4: ='Instruções'!$G$18 | K4: ='Instruções'!$H$18
C5: Segunda-feira | D5: FALSE | E5: FALSE | F5: FALSE | H5: Segunda-feira | I5: FALSE | J5: FALSE | K5: FALSE
C6: Terça-feira | D6: FALSE | E6: FALSE | F6: FALSE | H6: Terça-feira | I6: FALSE | J6: FALSE | K6: FALSE
C7: Quarta-feira | D7: FALSE | E7: FALSE | F7: FALSE | H7: Quarta-feira | I7: FALSE | J7: FALSE | K7: FALSE
C8: Quinta-feira | D8: FALSE | E8: FALSE | F8: FALSE | H8: Quinta-feira | I8: FALSE | J8: FALSE | K8: FALSE
C9: Sexta-feira | D9: FALSE | E9: FALSE | F9: FALSE | H9: Sexta-feira | I9: FALSE | J9: FALSE | K9: FALSE
C10: Sábado | D10: FALSE | E10: FALSE | F10: FALSE | H10: Sábado | I10: FALSE | J10: FALSE | K10: FALSE
C11: Domingo | D11: FALSE | E11: FALSE | F11: FALSE | H11: Domingo | I11: FALSE | J11: FALSE | K11: FALSE
C13: Frequência desejada | D13: ='Instruções'!$F$24 | E13: ='Instruções'!$G$24 | F13: ='Instruções'!$H$24 | H13: Frequência desejada | I13: ='Instruções'!$F$24 | J13: ='Instruções'!$G$24 | K13: ='Instruções'!$H$24
F16: Escreva aqui as suas conquistas
